BEGIN:VCALENDAR
VERSION:2.0
PRODID:-// - ECPv6.15.18//NONSGML v1.0//EN
CALSCALE:GREGORIAN
METHOD:PUBLISH
X-ORIGINAL-URL:https://kokako.kiwi
X-WR-CALDESC:Events for 
REFRESH-INTERVAL;VALUE=DURATION:PT1H
X-Robots-Tag:noindex
X-PUBLISHED-TTL:PT1H
BEGIN:VTIMEZONE
TZID:Pacific/Auckland
BEGIN:STANDARD
TZOFFSETFROM:+1300
TZOFFSETTO:+1200
TZNAME:NZST
DTSTART:20240406T140000
END:STANDARD
BEGIN:DAYLIGHT
TZOFFSETFROM:+1200
TZOFFSETTO:+1300
TZNAME:NZDT
DTSTART:20240928T140000
END:DAYLIGHT
BEGIN:STANDARD
TZOFFSETFROM:+1300
TZOFFSETTO:+1200
TZNAME:NZST
DTSTART:20250405T140000
END:STANDARD
BEGIN:DAYLIGHT
TZOFFSETFROM:+1200
TZOFFSETTO:+1300
TZNAME:NZDT
DTSTART:20250927T140000
END:DAYLIGHT
BEGIN:STANDARD
TZOFFSETFROM:+1300
TZOFFSETTO:+1200
TZNAME:NZST
DTSTART:20260404T140000
END:STANDARD
BEGIN:DAYLIGHT
TZOFFSETFROM:+1200
TZOFFSETTO:+1300
TZNAME:NZDT
DTSTART:20260926T140000
END:DAYLIGHT
END:VTIMEZONE
BEGIN:VEVENT
DTSTART;TZID=Pacific/Auckland:20250718T071500
DTEND;TZID=Pacific/Auckland:20250718T083000
DTSTAMP:20260420T075139
CREATED:20250627T225046Z
LAST-MODIFIED:20250627T225046Z
UID:2115-1752822900-1752827400@kokako.kiwi
SUMMARY:Annual General Meeting 2025
DESCRIPTION:Join us for our Annual General Meeting on Friday 18th July at 7:15am at the Okere Falls Store. \nYou’re welcome to attend in person. We can look into hosting a Microsoft Teams meeting if there is interest in this option and you’re unable to make it in person. We’ll be discussing highlights from the past year\, upcoming projects\, and welcoming any new or returning trustees. \nPlease let us know if you’d like to receive the Teams link. \nWe look forward to seeing you there!
URL:https://kokako.kiwi/event/annual-general-meeting-2025/
ORGANIZER;CN="Rotoehu Ecological Trust":MAILTO:rotoehuecologicaltrust@gmail.com
END:VEVENT
END:VCALENDAR