BEGIN:VCALENDAR
VERSION:2.0
PRODID:-// - ECPv6.15.18//NONSGML v1.0//EN
CALSCALE:GREGORIAN
METHOD:PUBLISH
X-ORIGINAL-URL:https://kokako.kiwi
X-WR-CALDESC:Events for 
REFRESH-INTERVAL;VALUE=DURATION:PT1H
X-Robots-Tag:noindex
X-PUBLISHED-TTL:PT1H
BEGIN:VTIMEZONE
TZID:Pacific/Auckland
BEGIN:STANDARD
TZOFFSETFROM:+1300
TZOFFSETTO:+1200
TZNAME:NZST
DTSTART:20240406T140000
END:STANDARD
BEGIN:DAYLIGHT
TZOFFSETFROM:+1200
TZOFFSETTO:+1300
TZNAME:NZDT
DTSTART:20240928T140000
END:DAYLIGHT
BEGIN:STANDARD
TZOFFSETFROM:+1300
TZOFFSETTO:+1200
TZNAME:NZST
DTSTART:20250405T140000
END:STANDARD
BEGIN:DAYLIGHT
TZOFFSETFROM:+1200
TZOFFSETTO:+1300
TZNAME:NZDT
DTSTART:20250927T140000
END:DAYLIGHT
BEGIN:STANDARD
TZOFFSETFROM:+1300
TZOFFSETTO:+1200
TZNAME:NZST
DTSTART:20260404T140000
END:STANDARD
BEGIN:DAYLIGHT
TZOFFSETFROM:+1200
TZOFFSETTO:+1300
TZNAME:NZDT
DTSTART:20260926T140000
END:DAYLIGHT
END:VTIMEZONE
BEGIN:VEVENT
DTSTART;TZID=Pacific/Auckland:20250809T090000
DTEND;TZID=Pacific/Auckland:20250809T130000
DTSTAMP:20260420T062325
CREATED:20250520T205948Z
LAST-MODIFIED:20250726T005324Z
UID:1408-1754730000-1754744400@kokako.kiwi
SUMMARY:Workday - 9 August 2025
DESCRIPTION:Join us for our next workday on Saturday 9th August!\nMeet at the corner of Pukehangi and Rotoehu Roads at 9:00 am. Road crews have been sealing the new access road this week\, so hopefully there’ll be no more detours. \nWe’ll head into the forest where tasks will be assigned before setting off to fill bait stations with 500g of RatAbate. The bait is placed inside biodegradable bags and secured under the bait station baseplate – so volunteers won’t need to handle any bait directly. \n🔔 Important note: RatAbate contains peanut products. If you have a peanut allergy\, we recommend sitting this one out for your safety. \n📅 If you’re also available for this workday on Saturday 9th August\, please let us know so we can plan ahead! \n\n✅ What RET Will Provide:\n\nHandwashing facilities\nPPE (gloves\, hi-viz)\nPack liners and other gear for the pest control operation\nSnacks and nibbles (for humans – and rats)\nKōkako Organic coffee\, hot chocolate\, and tea\nA full safety and permit briefing to ensure DOC and RET requirements are met\n\n\n🎒 What to Bring:\n\nA reusable cup for hot drinks\nSturdy\, clean footwear\nLong sleeves and pants (required for pest control work)\nA change of clothes/footwear (especially if you have pets at home)\nWeather-appropriate clothing\nA water bottle\nA backpack\nA friend or two to help us out with this important task\nAnd most importantly – your enthusiasm!
URL:https://kokako.kiwi/event/workday-9-august-2025/
LOCATION:Rotoehu Forest – Corner Pukahangi and Rotoehu Roads\, 22 Pukehangi Road\, Pukehina\, Bay of Plenty\, 3186\, New Zealand
ORGANIZER;CN="Rotoehu Ecological Trust":MAILTO:rotoehuecologicaltrust@gmail.com
END:VEVENT
END:VCALENDAR