BEGIN:VCALENDAR
VERSION:2.0
PRODID:-// - ECPv6.15.18//NONSGML v1.0//EN
CALSCALE:GREGORIAN
METHOD:PUBLISH
X-ORIGINAL-URL:https://kokako.kiwi
X-WR-CALDESC:Events for 
REFRESH-INTERVAL;VALUE=DURATION:PT1H
X-Robots-Tag:noindex
X-PUBLISHED-TTL:PT1H
BEGIN:VTIMEZONE
TZID:Pacific/Auckland
BEGIN:STANDARD
TZOFFSETFROM:+1300
TZOFFSETTO:+1200
TZNAME:NZST
DTSTART:20230401T140000
END:STANDARD
BEGIN:DAYLIGHT
TZOFFSETFROM:+1200
TZOFFSETTO:+1300
TZNAME:NZDT
DTSTART:20230923T140000
END:DAYLIGHT
BEGIN:STANDARD
TZOFFSETFROM:+1300
TZOFFSETTO:+1200
TZNAME:NZST
DTSTART:20240406T140000
END:STANDARD
BEGIN:DAYLIGHT
TZOFFSETFROM:+1200
TZOFFSETTO:+1300
TZNAME:NZDT
DTSTART:20240928T140000
END:DAYLIGHT
BEGIN:STANDARD
TZOFFSETFROM:+1300
TZOFFSETTO:+1200
TZNAME:NZST
DTSTART:20250405T140000
END:STANDARD
BEGIN:DAYLIGHT
TZOFFSETFROM:+1200
TZOFFSETTO:+1300
TZNAME:NZDT
DTSTART:20250927T140000
END:DAYLIGHT
END:VTIMEZONE
BEGIN:VEVENT
DTSTART;TZID=Pacific/Auckland:20240914T090000
DTEND;TZID=Pacific/Auckland:20240914T090000
DTSTAMP:20260420T200724
CREATED:20240413T222647Z
LAST-MODIFIED:20240909T205407Z
UID:1090-1726304400-1726304400@kokako.kiwi
SUMMARY:Workday 14 September
DESCRIPTION:Upcoming workday \nOur next workday is Saturday 14th of September. Meet at the corner of Pukehangi and Rotoehu Roads at 9am. We will then proceed into the forest where tasks will be assigned before setting off to fill bait stations with 500g of Ratabate. This bait is placed into the bait station in a biodegradable plastic bag which is secured by the baseplate of the bait station\, therefore volunteers shoudn’t need to touch any baits. \nIf you are able to attend the workday on Saturday 14th September\, let us know so we can plan accordingly. \nRET will be providing \n\nhandwashing facilities\nPPE (gloves\, hi-viz)\npack liners and other bits and pieces required for the pest control operation\nsnacks and nibbles for humans and rats\nKokako Organic coffee and hot chocolate/tea\na briefing to ensure all DOC permit requirements along with other requirements are met on the day\n\nWorkday – what to bring \n\nre-usable cup for hot drinks\nsturdy clean footwear\nlong sleeves and pants (pest control requires full coverage)\nchange of clothes if you want to change prior to going home (especially recommended if you have pets)\nweather suitable clothing\nwater bottle\nbackpack\nenthusiasm
URL:https://kokako.kiwi/event/workday-14-september/
LOCATION:Rotoehu Forest – Corner Pukahangi and Rotoehu Roads\, 22 Pukehangi Road\, Pukehina\, Bay of Plenty\, 3186\, New Zealand
ORGANIZER;CN="Rotoehu Ecological Trust":MAILTO:rotoehuecologicaltrust@gmail.com
END:VEVENT
END:VCALENDAR